BEGIN:VCALENDAR
VERSION:2.0
PRODID:-//ChamberMaster//Event Calendar 2.0//EN
METHOD:PUBLISH
X-PUBLISHED-TTL:P3D
REFRESH-INTERVAL:P3D
CALSCALE:GREGORIAN
BEGIN:VEVENT
DTSTART:20071115T003000Z
DTEND:20071115T023000Z
X-MICROSOFT-CDO-ALLDAYEVENT:FALSE
SUMMARY:Women's Self-Defense and Awareness Class
DESCRIPTION:Join us for an evening of discussion and then hands-on for a basic class of women's self-defense and awareness prior to the holiday shopping season!
X-ALT-DESC;FMTTYPE=text/html:Join us for an evening of discussion and then hands-on for a basic class of women's self-defense and awareness prior to the holiday shopping season!
LOCATION:Soo Bahk Do Moo Duk Kwan-Tomball
UID:e.155.2333
SEQUENCE:3
DTSTAMP:20260422T011542Z
URL:https://business.tomballchamber.org/events/details/women-s-self-defense-and-awareness-class-11-14-2007-2333
END:VEVENT

END:VCALENDAR
