BEGIN:VCALENDAR
VERSION:2.0
PRODID:-//ChamberMaster//Event Calendar 2.0//EN
METHOD:PUBLISH
X-PUBLISHED-TTL:P3D
REFRESH-INTERVAL:P3D
CALSCALE:GREGORIAN
BEGIN:VEVENT
DTSTART:20260417T140000Z
DTEND:20260417T200000Z
X-MICROSOFT-CDO-ALLDAYEVENT:FALSE
SUMMARY:Women's Business Summit: Rise Together - Lead Forever
DESCRIPTION:Event Overview: Women's Business Summit   Rise Together\; Lead Forever\n\nHost: Greater Tomball Area Chamber of Commerce Women's Committee\n\nOrganizer: Greater Tomball Area Chamber of Commerce (GTACC)\n\nLocation: Lone Star College-Tomball - Beckendorf Conference Center\n\nAudience: Women business owners\, professionals\, entrepreneurs\, community leaders\, and allies interested in women's empowerment\, business growth\, and professional development.   ***Men Welcome!\n\n\n\nThank you to our Presenting Sponsor: Tomball Economic Development Corporation.\n\nOther participating sponsors:\n\nLeMaster Law Firm\n\nMundy Legal Services\n\n\n  Purpose & Goals\n\nThe Women's Business Summit   Rise Together\; Lead Forever is designed to uplift\, educate\, and connect women in business and leadership. The event aims to:\n\n\n	\n	Inspire and empower women through keynote presentations\, panel discussions\, and practical workshops.\n	\n	\n	Provide actionable tools and strategies for business growth\, leadership development\, career advancement\, and personal empowerment.\n	\n	\n	Foster meaningful networking and support systems among women professionals and entrepreneurs in the Greater Tomball community.\n	\n	\n	Create a supportive platform where women can share experiences\, learn from one another\, and cultivate professional relationships.\n	\n\n\nThis Summit aligns with the Women's Committee's overarching mission "to help women achieve their goals professionally by providing networking\, educational programs\, and community support." \n\n\n\n \n\n  Topics and Speakers\n\nLeadership\n\nKelly Moore\, See Your Possibilities\n\n\n\nPersonal Presentation & Branding\n\nLori Pace\, ADIM Media\n\n\n\nLife/Work Balance\n\nYvette Valdenegro & Geovanna Burgess White\, YG Collaborations\n\n\n\nBusiness Panel\n\nJudy Bode\, CORE Integrated Wealth\n\nApril Halpin\, Community Impact Newspaper\n\nKim Salser\, Emerge Marketing Consultants\n\nStephanie Van Lue\, Activate HR\n\n\n\nCall to Action\n\nFranny Allen\, Franny's Bartending & Event Services\n\n\n\nHeadshots with Julizza Gomez Portraits for a $10 Donation\n\n\n\nEvent Sponrs: $500\n\nEntry & reserved seating for 4 attendees\n\nProgram recognition\n\nName/Logo on all marketing materials\n\nContinental Breakfast & Lunch\n\nNetworking Opportunities\n\n\n\nVendor Opportunity: $150\n\nVendor table during event\n\nProgram recognition\n\nEntry for 1 attendee for all sessions\n\nContinental Breakfast & Lunch\n\nNetworking Opportunities\n\n*Must provide door prize valued no less than $50\n\n\n\nIndividual Ticket: Member: $80 / Non-Member: $100\n\nContinental Breakfast & Lunch\n\nNetworking Opportunities\n\nVisit with Vendors\n\n\n\nRegister Today!
X-ALT-DESC;FMTTYPE=text/html:<h2 data-end="270" data-start="185">&#128204\; <strong data-end="270" data-start="191">Event Overview: Women&rsquo\;s Business Summit &mdash\; <em data-end="268" data-start="235">Rise Together\; Lead Forever</em></strong></h2>\n\n<p data-end="642" data-start="272"><strong data-end="281" data-start="272">Host:</strong> <em data-end="342" data-start="282">Greater Tomball Area Chamber of Commerce Women&rsquo\;s Committee</em><br data-end="345" data-start="342" />\n<strong data-end="359" data-start="345">Organizer:</strong> <em data-end="402" data-start="360">Greater Tomball Area Chamber of Commerce</em> (GTACC)<br data-end="413" data-start="410" />\n<strong data-end="426" data-start="413">Location:</strong>&nbsp\;Lone Star College-Tomball - Beckendorf Conference Center<br data-end="464" data-start="461" />\n<strong data-end="477" data-start="464">Audience:</strong> Women business owners\, professionals\, entrepreneurs\, community leaders\, and allies interested in women&rsquo\;s empowerment\, business growth\, and professional development.&nbsp\; &nbsp\;***Men Welcome!<br />\n<br />\nThank you to our Presenting Sponsor: Tomball Economic Development Corporation.</p>\n\n<p data-end="642" data-start="272">Other participating sponsors:<br class="html-br" />\nLeMaster Law Firm<br class="html-br" />\nMundy Legal Services</p>\n\n<hr data-end="647" data-start="644" />\n<h3 data-end="675" data-start="649">&#127919\; <strong data-end="675" data-start="656">Purpose &amp\; Goals</strong></h3>\n\n<p data-end="842" data-start="676">The <strong data-end="741" data-start="680">Women&rsquo\;s Business Summit &ndash\; Rise Together\; Lead Forever</strong>&nbsp\;is designed to <strong data-end="822" data-start="757">uplift\, educate\, and connect women in business and leadership</strong>. The event aims to:</p>\n\n<ul data-end="1356" data-start="844">\n	<li data-end="950" data-start="844">\n	<p data-end="950" data-start="846"><strong data-end="875" data-start="846">Inspire and empower women</strong> through keynote presentations\, panel discussions\, and practical workshops.</p>\n	</li>\n	<li data-end="1087" data-start="951">\n	<p data-end="1087" data-start="953"><strong data-end="981" data-start="953">Provide actionable tools</strong> and strategies for business growth\, leadership development\, career advancement\, and personal empowerment.</p>\n	</li>\n	<li data-end="1220" data-start="1088">\n	<p data-end="1220" data-start="1090"><strong data-end="1122" data-start="1090">Foster meaningful networking</strong> and support systems among women professionals and entrepreneurs in the Greater Tomball community.</p>\n	</li>\n	<li data-end="1356" data-start="1221">\n	<p data-end="1356" data-start="1223"><strong data-end="1255" data-start="1223">Create a supportive platform</strong> where women can share experiences\, learn from one another\, and cultivate professional relationships.</p>\n	</li>\n</ul>\n\n<p data-end="1584" data-start="1358">This Summit aligns with the Women&rsquo\;s Committee&rsquo\;s overarching mission &ldquo\;to help women achieve their goals professionally by providing networking\, educational programs\, and community support.&rdquo\;&nbsp\;<br />\n<br />\n&nbsp\;</p>\n\n<h3 data-end="3191" data-start="3163">&#127775\; <strong data-end="3191" data-start="3170">Topics and Speakers</strong></h3>\n\n<p data-end="3219" data-start="3192"><strong>Leadership</strong><br />\nKelly Moore\, See Your Possibilities<br />\n<br />\n<strong>Personal Presentation &amp\; Branding</strong><br />\nLori Pace\, ADIM Media<br />\n<br />\n<strong>Life/Work Balance</strong><br />\n<span style="font-size:12px\;"><span style="font-family:aptos\,sans-serif\;">Yvette Valdenegro &amp\;&nbsp\;</span></span>Geovanna Burgess White\, YG Collaborations<br />\n<br />\n<strong>Business Panel</strong><br />\nJudy Bode\, CORE Integrated Wealth<br />\nApril Halpin\, Community Impact Newspaper<br />\nKim Salser\, Emerge Marketing Consultants<br />\nStephanie Van Lue\, Activate HR<br />\n<br />\n<strong>Call to Action</strong><br />\nFranny Allen\, Franny&rsquo\;s Bartending &amp\; Event Services<br />\n<br />\n<strong>Headshots with Julizza Gomez Portraits for a $10 Donation<br />\n<br />\nEvent Sponrs: $500</strong><br />\nEntry &amp\; reserved seating for 4 attendees<br />\nProgram recognition<br />\nName/Logo on all marketing materials<br />\nContinental Breakfast &amp\; Lunch<br />\nNetworking Opportunities<br />\n<br />\n<strong>Vendor Opportunity: $150</strong><br />\nVendor table during event<br />\nProgram recognition<br />\nEntry for 1 attendee for all sessions<br />\nContinental Breakfast &amp\; Lunch<br />\nNetworking Opportunities<br />\n*Must provide door prize valued no less than $50<br />\n<br />\n<strong>Individual Ticket: Member: $80 /&nbsp\;Non-Member: $100</strong><br />\nContinental Breakfast &amp\; Lunch<br />\nNetworking Opportunities<br />\nVisit with Vendors<br />\n<br />\nRegister Today!</p>\n
LOCATION:Lone Star College-Tomball Beckendorf Conference Center 30555 Tomball Parkway Tomball\, TX 77375
UID:e.155.40252
SEQUENCE:3
DTSTAMP:20260421T104325Z
URL:https://business.tomballchamber.org/events/details/women-s-business-summit-rise-together-lead-forever-40252
END:VEVENT

END:VCALENDAR
