BEGIN:VCALENDAR
VERSION:2.0
PRODID:-//ChamberMaster//Event Calendar 2.0//EN
METHOD:PUBLISH
X-PUBLISHED-TTL:P3D
REFRESH-INTERVAL:P3D
CALSCALE:GREGORIAN
BEGIN:VEVENT
DTSTART:20190501T133000Z
DTEND:20190501T183000Z
X-MICROSOFT-CDO-ALLDAYEVENT:FALSE
SUMMARY:Women Empowering Women Conference & Business Expo
DESCRIPTION:Are you ready to elevate your business? Join us for Powerful educational workshops with dynamic speakers. We will have vendors introducing their businesses along with luncheon and an Amazing keynote speaker\, Dr. Lee Ann Nutt speaking about: Achieving Extraordinary Outcomes as a Leader.
X-ALT-DESC;FMTTYPE=text/html:Are you ready to elevate your business? Join us for Powerful educational workshops with dynamic speakers. We will have vendors introducing their businesses along with luncheon and an Amazing keynote speaker\, Dr. Lee Ann Nutt speaking about: Achieving Extraordinary Outcomes as a Leader.
LOCATION:Lone star College-Tomball Beckendorf Conference Center 30555 Tomball Parkway\, 77375
UID:e.155.31108
SEQUENCE:3
DTSTAMP:20260426T031428Z
URL:https://business.tomballchamber.org/events/details/women-empowering-women-conference-business-expo-05-01-2019-31108
END:VEVENT

END:VCALENDAR
