BEGIN:VCALENDAR
VERSION:2.0
PRODID:-//ChamberMaster//Event Calendar 2.0//EN
METHOD:PUBLISH
X-PUBLISHED-TTL:P3D
REFRESH-INTERVAL:P3D
CALSCALE:GREGORIAN
BEGIN:VEVENT
DTSTART:20190501T130000Z
DTEND:20190501T183000Z
X-MICROSOFT-CDO-ALLDAYEVENT:FALSE
SUMMARY:Women Empowering Women Conference and Business Expo
DESCRIPTION:Are you ready to elevate your business? Join our incredible conference as an attendee or as a Business Expo Vendor. Keynote Speaker\, Dr. Lea Ann Nutt speaks about Beliefs\, leadership and achieving extraordinary outcomes. 2 additional education business speakers\, delicious lunch and networking as well! We would love to have you join us!!
X-ALT-DESC;FMTTYPE=text/html:Are you ready to elevate your business? Join our incredible conference as an attendee or as a Business Expo Vendor. Keynote Speaker\, Dr. Lea Ann Nutt speaks about Beliefs\, leadership and achieving extraordinary outcomes. 2 additional education business speakers\, delicious lunch and networking as well! We would love to have you join us!!
LOCATION:Lone Star College---Tomball Beckendorf Conference Center 20515 Tomball Parkway 77070
UID:e.155.31075
SEQUENCE:3
DTSTAMP:20260426T031412Z
URL:https://business.tomballchamber.org/events/details/women-empowering-women-conference-and-business-expo-31075
END:VEVENT

END:VCALENDAR
