BEGIN:VCALENDAR
VERSION:2.0
PRODID:-//ChamberMaster//Event Calendar 2.0//EN
METHOD:PUBLISH
X-PUBLISHED-TTL:P3D
REFRESH-INTERVAL:P3D
CALSCALE:GREGORIAN
BEGIN:VEVENT
DTSTART:20080918T230000Z
DTEND:20080919T000000Z
X-MICROSOFT-CDO-ALLDAYEVENT:FALSE
SUMMARY:Weight Loss Surgery Seminar
DESCRIPTION:Have you tried it all and still can't lose the weight?  Learn the facts about the surgical options for weight loss.  Join us for this FREE seminar presented by Dr. Harvinderpal Singh\, a Board Certified General Surgeon specializing in Bariatric Surgery.  Pre-registration is required.
X-ALT-DESC;FMTTYPE=text/html:Have you tried it all and still can't lose the weight?  Learn the facts about the surgical options for weight loss.  Join us for this FREE seminar presented by Dr. Harvinderpal Singh\, a Board Certified General Surgeon specializing in Bariatric Surgery.  Pre-registration is required.\n
LOCATION:Tomball Regional Medical Center - 1st Floor Conference Room
UID:e.155.2543
SEQUENCE:3
DTSTAMP:20260421T085544Z
URL:https://business.tomballchamber.org/events/details/weight-loss-surgery-seminar-09-18-2008-2543
END:VEVENT

END:VCALENDAR
