BEGIN:VCALENDAR
VERSION:2.0
PRODID:-//ChamberMaster//Event Calendar 2.0//EN
METHOD:PUBLISH
X-PUBLISHED-TTL:P3D
REFRESH-INTERVAL:P3D
CALSCALE:GREGORIAN
BEGIN:VEVENT
DTSTART:20070709T230000Z
DTEND:20070831T003000Z
X-MICROSOFT-CDO-ALLDAYEVENT:FALSE
SUMMARY:WEIGHT LOSS EXPRESS 8-WEEK PROGRAM
DESCRIPTION:8 WEEK EDUCATIONAL COURSE ON NUTRITION AND WEIGHT LOSS.
X-ALT-DESC;FMTTYPE=text/html:8 WEEK EDUCATIONAL COURSE ON NUTRITION AND WEIGHT LOSS.  
LOCATION:BUTTERFLY LIFE- TOMBALL 14030 FM 2920\, SUITE F\; IN THE NEW KROGER CENTER
UID:e.155.2269
SEQUENCE:3
DTSTAMP:20260422T043705Z
URL:https://business.tomballchamber.org/events/details/weight-loss-express-8-week-program-07-09-2007-2269
END:VEVENT

END:VCALENDAR
