BEGIN:VCALENDAR
VERSION:2.0
PRODID:-//ChamberMaster//Event Calendar 2.0//EN
METHOD:PUBLISH
X-PUBLISHED-TTL:P3D
REFRESH-INTERVAL:P3D
CALSCALE:GREGORIAN
BEGIN:VEVENT
DTSTART:20070526T150000Z
DTEND:20070526T160000Z
X-MICROSOFT-CDO-ALLDAYEVENT:FALSE
SUMMARY:''Watersmart Landscaping''
DESCRIPTION:"Watersmart Landscaping" with Dr. Carol Brouwer from Texas A&M University at 10:00 a.m.  Learn how the proper watering methods for your lawn & garden can not only save you money\, it will also help our environment by conserving water!
X-ALT-DESC;FMTTYPE=text/html:&quot\;Watersmart Landscaping&quot\; with Dr. Carol Brouwer from Texas A&amp\;M University at 10:00 a.m.&nbsp\; Learn&nbsp\;how the proper watering methods&nbsp\;for your lawn &amp\; garden&nbsp\;can not only save you money\, it will also help&nbsp\;our environment by conserving water!
LOCATION:25252 FM 2978 Road
UID:e.155.2235
SEQUENCE:3
DTSTAMP:20260422T091151Z
URL:https://business.tomballchamber.org/events/details/watersmart-landscaping-05-26-2007-2235
END:VEVENT

END:VCALENDAR
