BEGIN:VCALENDAR
VERSION:2.0
PRODID:-//ChamberMaster//Event Calendar 2.0//EN
METHOD:PUBLISH
X-PUBLISHED-TTL:P3D
REFRESH-INTERVAL:P3D
CALSCALE:GREGORIAN
BEGIN:VEVENT
DTSTART;VALUE=DATE:20070429
DTEND;VALUE=DATE:20070430
TRANSP:TRANSPARENT
X-MICROSOFT-CDO-ALLDAYEVENT:TRUE
SUMMARY:WalkAmerica
DESCRIPTION:WalkAmerica is the walk that saves babies! As the March of Dimes biggest fundraiser\, WalkAmerica supports research and programs to help prevent premature birth\, birth defects and infant death. Since its beginning in 1970\, WalkAmerica has raised more than $1.7 billion to help give babies a fighting chance.\n\nIf you or your company\, organization or family wish to participate either as a sponsor or by forming a walk team\, please contact Gerta Fereday or register at www.walkamerica.org
X-ALT-DESC;FMTTYPE=text/html:WalkAmerica is the walk that saves babies! As the March of Dimes biggest fundraiser\, WalkAmerica supports research and programs to help prevent premature birth\, birth defects and infant death. Since its beginning in 1970\, WalkAmerica has raised more than $1.7 billion to help give babies a fighting chance.\n\nIf you or your company\, organization or family wish to participate either as a sponsor or by forming a walk team\, please contact Gerta Fereday or register at www.walkamerica.org\n
LOCATION:Cynthia Woods Mitchell Pavilion- The Woodlands
UID:e.155.1658
SEQUENCE:3
DTSTAMP:20260422T104400Z
URL:https://business.tomballchamber.org/events/details/walkamerica-04-29-2007-1658
END:VEVENT

END:VCALENDAR
