BEGIN:VCALENDAR
VERSION:2.0
PRODID:-//ChamberMaster//Event Calendar 2.0//EN
METHOD:PUBLISH
X-PUBLISHED-TTL:P3D
REFRESH-INTERVAL:P3D
CALSCALE:GREGORIAN
BEGIN:VEVENT
DTSTART:20200803T140000Z
DTEND:20200807T170000Z
X-MICROSOFT-CDO-ALLDAYEVENT:FALSE
SUMMARY:Virtual Art Camp: Pearl Fincher Museum of Fine Arts
DESCRIPTION:The Pearl Fincher Museum of Fine Arts is bringing summer art camp to the comfort of your own home! Week-long camps will introduce students to a variety of media and techniques\, with a different art project each day. Through video\, instructional pdf's\, and Zoom sessions with the museum's educational staff\, campers will create projects that feature pastels\, painting\, drawing\, and fabric sculpture. Projects may be completed at the time of day that works best for each camper\, with Zoom sessions at 11 a.m. each day. Art supply kits are provided and may be picked up at the museum prior to camp. Virtual Art Camp will be held July 27 - 31 for ages 8 to 12\, and August 3 - 7 for ages 13 to 16. Each camp is limited to 20 students. For complete details and to register\, please visit www.pearlmfa.org/virtualartcamp.
X-ALT-DESC;FMTTYPE=text/html:The Pearl Fincher Museum of Fine Arts is bringing summer art camp to the comfort of your own home! Week-long camps will introduce students to a variety of media and techniques\, with a different art project each day. Through video\, instructional pdf&rsquo\;s\, and Zoom sessions with the museum&rsquo\;s educational staff\, campers will create projects that feature pastels\, painting\, drawing\, and fabric sculpture. Projects may be completed at the time of day that works best for each camper\, with Zoom sessions at 11 a.m. each day. Art supply kits are provided and may be picked up at the museum prior to camp. Virtual Art Camp will be held July 27 - 31 for ages 8 to 12\, and August 3 - 7 for ages 13 to 16. Each camp is limited to 20 students. For complete details and to register\, please visit www.pearlmfa.org/virtualartcamp.
LOCATION:At Home / Online
UID:e.155.32460
SEQUENCE:3
DTSTAMP:20260424T152732Z
URL:https://business.tomballchamber.org/events/details/virtual-art-camp-pearl-fincher-museum-of-fine-arts-08-03-2020-32460
END:VEVENT

END:VCALENDAR
