BEGIN:VCALENDAR
VERSION:2.0
PRODID:-//ChamberMaster//Event Calendar 2.0//EN
METHOD:PUBLISH
X-PUBLISHED-TTL:P3D
REFRESH-INTERVAL:P3D
CALSCALE:GREGORIAN
BEGIN:VEVENT
DTSTART:20230513T140000Z
DTEND:20230513T190000Z
X-MICROSOFT-CDO-ALLDAYEVENT:FALSE
SUMMARY:Vintage Car Festival
DESCRIPTION:Saturday\, May 13th\, 2023\, The 9th Annual Vintage Car Festival will be held again at the beautiful little church\, First Presbyterian Church\, Tomball TX.\n\n			Enjoy the day showing or browsing incredible vehicles in a family friendly environment. There will be BBQ\, a petting zoo and Craft Vendors.
X-ALT-DESC;FMTTYPE=text/html:<div>&nbsp\;</div>\n\n<div>\n<table border="0" cellpadding="0" cellspacing="0" style="background-color:rgb(255\, 255\, 255)\; color:rgb(0\, 0\, 0)\; font-family:verdana\,arial\,sans-serif\; width:100%">\n	<tbody>\n		<tr>\n			<td colspan="2"><span style="font-size:14px">Saturday\, May 13th\, 2023\, <strong>The 9th Annual Vintage Car Festival</strong> will be held again at the beautiful little church\, First Presbyterian Church\, Tomball TX.<br />\n			Enjoy the day showing or browsing incredible vehicles in a family friendly environment. There will be BBQ\, a petting zoo and Craft Vendors.&nbsp\;</span></td>\n		</tr>\n	</tbody>\n</table>\n</div>\n
LOCATION:First Presbyterian Church\, Tomball 30410 Tomball Parkway Tomball\, TX 77375
UID:e.155.34529
SEQUENCE:3
DTSTAMP:20260420T062401Z
URL:https://business.tomballchamber.org/events/details/vintage-car-festival-05-13-2023-34529
END:VEVENT

END:VCALENDAR
