BEGIN:VCALENDAR
VERSION:2.0
PRODID:-//ChamberMaster//Event Calendar 2.0//EN
METHOD:PUBLISH
X-PUBLISHED-TTL:P3D
REFRESH-INTERVAL:P3D
CALSCALE:GREGORIAN
BEGIN:VEVENT
DTSTART:20191012T140000Z
DTEND:20191012T200000Z
X-MICROSOFT-CDO-ALLDAYEVENT:FALSE
SUMMARY:VFW Auxiliary Post 2427 Annual Boo-B-Q Cook off
DESCRIPTION:VFW Auxiliary Post 2427 Annual Boo-B-Q Cook off. Judges needed October 11th Registration 7am October 12th Craft Fair 9am - 3pm Beans 10 am Chef's Choice 11am Chicken 12pm Pork Spare Ribs 1:30pm Brisket 3pm
X-ALT-DESC;FMTTYPE=text/html:VFW Auxiliary Post 2427 Annual Boo-B-Q Cook off. Judges needed October 11th Registration 7am October 12th Craft Fair 9am - 3pm Beans 10 am Chef&#39\;s Choice 11am Chicken 12pm Pork Spare Ribs 1:30pm Brisket 3pm
LOCATION:11408 Alice Rd\, Tomball\, TX. 77377
UID:e.155.31570
SEQUENCE:3
DTSTAMP:20260425T163108Z
URL:https://business.tomballchamber.org/events/details/vfw-auxiliary-post-2427-annual-boo-b-q-cook-off-31570
END:VEVENT

END:VCALENDAR
