BEGIN:VCALENDAR
VERSION:2.0
PRODID:-//ChamberMaster//Event Calendar 2.0//EN
METHOD:PUBLISH
X-PUBLISHED-TTL:P3D
REFRESH-INTERVAL:P3D
CALSCALE:GREGORIAN
BEGIN:VEVENT
DTSTART;VALUE=DATE:20071101
DTEND;VALUE=DATE:20071128
TRANSP:TRANSPARENT
X-MICROSOFT-CDO-ALLDAYEVENT:TRUE
SUMMARY:VENDORS WANTED FOR ALL CLASS REUNION
DESCRIPTION:Vendors Wanted for All Class Reunion and Holiday FairOpen to the public\, the Tomball High School Alumni Associationis hosting an All Class Reunion in conjunction with a craft fair inthe Downtown Tomball Area. Saturday - December 1st
X-ALT-DESC;FMTTYPE=text/html:<div>Vendors Wanted for All Class Reunion and Holiday Fair</div><div>Open to the public\, the Tomball High School Alumni Association</div><div>is hosting an All Class Reunion in conjunction with a craft fair in</div><div>the Downtown Tomball Area. Saturday - December 1st</div>
LOCATION:Downtown Tomball Antique DistrictMain / Cherry / Pine / Market area
UID:e.155.2359
SEQUENCE:3
DTSTAMP:20260422T011405Z
URL:https://business.tomballchamber.org/events/details/vendors-wanted-for-all-class-reunion-11-01-2007-2359
END:VEVENT

END:VCALENDAR
