BEGIN:VCALENDAR
VERSION:2.0
PRODID:-//ChamberMaster//Event Calendar 2.0//EN
METHOD:PUBLISH
X-PUBLISHED-TTL:P3D
REFRESH-INTERVAL:P3D
CALSCALE:GREGORIAN
BEGIN:VEVENT
DTSTART:20080730T230000Z
DTEND:20080803T011500Z
X-MICROSOFT-CDO-ALLDAYEVENT:FALSE
SUMMARY:VBS - CASTAWAY BAY
DESCRIPTION:Are you ready to get lost in a tropical island adventure? If so\, we invite you come along as we travel to "Castaway Bay\," where faith conquers fear and all doubts are cast away. In many ways\, our lives here on Earth can be compared spiritually to being marooned on a deserted island. While a tropical island is typically beautiful and can be a wonderful place to visit\, it is not our home. However\, while here we must survive the many obstacles that challenge our faith for it is only for it is only through this faith that we can overcome this world (1 John 5:4).
X-ALT-DESC;FMTTYPE=text/html:Are you ready to get lost in a tropical island adventure? If so\, we invite you come along as we travel to "Castaway Bay\," where faith conquers fear and all doubts are cast away. In many ways\, our lives here on Earth can be compared spiritually to being marooned on a deserted island. While a tropical island is typically beautiful and can be a wonderful place to visit\, it is not our home. However\, while here we must survive the many obstacles that challenge our faith for it is only for it is only through this faith that we can overcome this world (1 John 5:4).\n\n
LOCATION:Spring Creek Church of Christ 14847 Brown Road
UID:e.155.2551
SEQUENCE:3
DTSTAMP:20260421T093755Z
URL:https://business.tomballchamber.org/events/details/vbs-castaway-bay-07-30-2008-2551
END:VEVENT

END:VCALENDAR
