BEGIN:VCALENDAR
VERSION:2.0
PRODID:-//ChamberMaster//Event Calendar 2.0//EN
METHOD:PUBLISH
X-PUBLISHED-TTL:P3D
REFRESH-INTERVAL:P3D
CALSCALE:GREGORIAN
BEGIN:VEVENT
DTSTART:20080209T160000Z
DTEND:20080209T230000Z
X-MICROSOFT-CDO-ALLDAYEVENT:FALSE
SUMMARY:Valentine Mini Expo
DESCRIPTION:Come join us Saturday\, February 9th\, 2008\, at La Quinta for our First Annual Expo. \nShow exhibitors will donate an item each to be used as door prizes held hourly from 1:00 to 4:00 pm. \nStop in to Win! (Must be present to receive)\nHandmade jewely by Glitzy Girl Designs\, Beautiful crystallized sunglasses and baby wear by Designs by LaVeVee\, Home Interior and cute and fluffy Smelly Criters!
X-ALT-DESC;FMTTYPE=text/html:Come join us Saturday\, February 9th\, 2008\, at La Quinta for our First Annual Expo. \nShow exhibitors will donate an item each to be used as door prizes held hourly from 1:00 to 4:00 pm. \nStop in to Win! (Must be present to receive)\nHandmade jewely by Glitzy Girl Designs\, Beautiful crystallized sunglasses and baby wear by Designs by LaVeVee\, Home Interior and cute and fluffy Smelly Criters! 
LOCATION:La Quinta Inn in Tomball 14000 Medical Complex Dr. Tomball\, TX 77375
UID:e.155.2402
SEQUENCE:3
DTSTAMP:20260421T182557Z
URL:https://business.tomballchamber.org/events/details/valentine-mini-expo-02-09-2008-2402
END:VEVENT

END:VCALENDAR
