BEGIN:VCALENDAR
VERSION:2.0
PRODID:-//ChamberMaster//Event Calendar 2.0//EN
METHOD:PUBLISH
X-PUBLISHED-TTL:P3D
REFRESH-INTERVAL:P3D
CALSCALE:GREGORIAN
BEGIN:VEVENT
DTSTART:20070811T190000Z
DTEND:20070811T203000Z
X-MICROSOFT-CDO-ALLDAYEVENT:FALSE
SUMMARY:United States Air Force Band of the West
DESCRIPTION:The Concert Band is a 45 member ensemble which represents the U.S. Air Force by performing music throughout the Southwest. This band's repertoire consists of music from the Renaissance up to the present day ranging from serious symphonic band literature to Broadway musicals\, and from Sousa marches to today's poplular hits. The members of the band are highly skilled professional musicians coming from colleges to universities all over the nation to serve in the U.S. Air Force.
X-ALT-DESC;FMTTYPE=text/html:The Concert Band is a 45 member ensemble which represents the U.S. Air Force by performing music throughout the Southwest. This band&rsquo\;s repertoire consists of music from the Renaissance up to the present day ranging from serious symphonic band literature to Broadway musicals\, and from Sousa marches to today&rsquo\;s poplular hits. The members of the band are highly skilled professional musicians coming from colleges to universities all over the nation to serve in the U.S. Air Force.
LOCATION:Salem Lutheran Church\, 22601 Lutheran Church Road\, Tomball
UID:e.155.2259
SEQUENCE:3
DTSTAMP:20260422T045551Z
URL:https://business.tomballchamber.org/events/details/united-states-air-force-band-of-the-west-08-11-2007-2259
END:VEVENT

END:VCALENDAR
