BEGIN:VCALENDAR
VERSION:2.0
PRODID:-//ChamberMaster//Event Calendar 2.0//EN
METHOD:PUBLISH
X-PUBLISHED-TTL:P3D
REFRESH-INTERVAL:P3D
CALSCALE:GREGORIAN
BEGIN:VEVENT
DTSTART:20070815T181500Z
DTEND:20070815T184500Z
X-MICROSOFT-CDO-ALLDAYEVENT:FALSE
SUMMARY:U.S. Representative Michael McCaul Talks Taxes
DESCRIPTION:The tax rates and laws for all Americans are increasing and changing\, and Congressman Michael McCaul wants to make sure those his constituents are aware of these major changes\, and how they will impact them.
X-ALT-DESC;FMTTYPE=text/html:<div>The tax rates and laws for all Americans are increasing and changing\, and Congressman Michael McCaul wants to make sure those his constituents are aware of these major changes\, and how they will impact them.</div>
LOCATION:Community Room of the AmegyBank of Texas in Tomball\, 28201 Tomball Parkway
UID:e.155.2302
SEQUENCE:3
DTSTAMP:20260422T044533Z
URL:https://business.tomballchamber.org/events/details/u-s-representative-michael-mccaul-talks-taxes-08-15-2007-2302
END:VEVENT

END:VCALENDAR
