BEGIN:VCALENDAR
VERSION:2.0
PRODID:-//ChamberMaster//Event Calendar 2.0//EN
METHOD:PUBLISH
X-PUBLISHED-TTL:P3D
REFRESH-INTERVAL:P3D
CALSCALE:GREGORIAN
BEGIN:VEVENT
DTSTART:20211119T010000Z
DTEND:20211119T033000Z
X-MICROSOFT-CDO-ALLDAYEVENT:FALSE
SUMMARY:TSA Senior Class of 2022 Bingo
DESCRIPTION:Join us Thursday\, November 18 for a fun night of Bingo benefitting Tomball Star Academy Senior Parent Committee Class of 2022 at the Tomball Community Center\, 221 Market Street in Tomball. Get ready for a fun filled night playing bingo for a chance to win one of ten fabulous gift baskets including Family Fun Night\, Furry Friend Basket \, Chocolate Overload and others\, all filled with fun items and gift cards. You won't want to miss our giant Holiday Madness Basket filled with Christmas items\, decor\, treats and gift cards to your favorite stores! All proceeds directly support our goal of ensuring a safe and fun Senior year for the Class of 2022.
X-ALT-DESC;FMTTYPE=text/html:Join us Thursday\, November 18 for a fun night of Bingo benefitting Tomball Star Academy Senior Parent Committee Class of 2022 at the Tomball Community Center\, 221 Market Street in Tomball. Get ready for a fun filled night playing bingo for a chance to win one of ten fabulous gift baskets including Family Fun Night\, Furry Friend Basket \, Chocolate Overload and others\, all filled with fun items and gift cards. You won&#39\;t want to miss our giant Holiday Madness Basket filled with Christmas items\, decor\, treats and gift cards to your favorite stores! All proceeds directly support our goal of ensuring a safe and fun Senior year for the Class of 2022.
LOCATION:Tomball Community Center 221 Market Street Tomball\, TX 77375
UID:e.155.35048
SEQUENCE:3
DTSTAMP:20260422T155238Z
URL:https://business.tomballchamber.org/events/details/tsa-senior-class-of-2022-bingo-35048
END:VEVENT

END:VCALENDAR
