BEGIN:VCALENDAR
VERSION:2.0
PRODID:-//ChamberMaster//Event Calendar 2.0//EN
METHOD:PUBLISH
X-PUBLISHED-TTL:P3D
REFRESH-INTERVAL:P3D
CALSCALE:GREGORIAN
BEGIN:VEVENT
DTSTART:20070524T150000Z
DTEND:20070524T160000Z
X-MICROSOFT-CDO-ALLDAYEVENT:FALSE
SUMMARY:Trendsetters Salon & Day Spa Ribbon Cutting
DESCRIPTION:Ribbon Cutting for Trendsetters Salon & Day Spa
X-ALT-DESC;FMTTYPE=text/html:Ribbon Cutting for Trendsetters Salon &amp\; Day Spa
LOCATION:28105 Tomball Parkway\, Suite 101 Tomball\, Texas 77375 281.351.7511
UID:e.155.2229
SEQUENCE:3
DTSTAMP:20260422T091630Z
URL:https://business.tomballchamber.org/events/details/trendsetters-salon-day-spa-ribbon-cutting-05-24-2007-2229
END:VEVENT

END:VCALENDAR
