BEGIN:VCALENDAR
VERSION:2.0
PRODID:-//ChamberMaster//Event Calendar 2.0//EN
METHOD:PUBLISH
X-PUBLISHED-TTL:P3D
REFRESH-INTERVAL:P3D
CALSCALE:GREGORIAN
BEGIN:VEVENT
DTSTART:20070725T193000Z
DTEND:20070725T220000Z
X-MICROSOFT-CDO-ALLDAYEVENT:FALSE
SUMMARY:Traveling Pants Teen Program
DESCRIPTION:Watch Sisterhood of the Traveling Pants while decorating a pair of your old jeans.  You bring the pants\, and we'll supply the rest!
X-ALT-DESC;FMTTYPE=text/html:Watch Sisterhood of the Traveling Pants while decorating a pair of your old jeans.  You bring the pants\, and we'll supply the rest!
LOCATION:Tomball College & Community Library 1st floor Meeting Room
UID:e.155.2253
SEQUENCE:3
DTSTAMP:20260422T061158Z
URL:https://business.tomballchamber.org/events/details/traveling-pants-teen-program-07-25-2007-2253
END:VEVENT

END:VCALENDAR
