BEGIN:VCALENDAR
VERSION:2.0
PRODID:-//ChamberMaster//Event Calendar 2.0//EN
METHOD:PUBLISH
X-PUBLISHED-TTL:P3D
REFRESH-INTERVAL:P3D
CALSCALE:GREGORIAN
BEGIN:VEVENT
DTSTART:20080226T193000Z
DTEND:20080226T203000Z
X-MICROSOFT-CDO-ALLDAYEVENT:FALSE
SUMMARY:Trailriders in Town
DESCRIPTION:The City of Tomball hoststhe Trailriders in Town at the DEPOT
X-ALT-DESC;FMTTYPE=text/html:<div>The City of Tomball hosts</div><div>the Trailriders in Town at the DEPOT</div>
LOCATION:Meet at the DEPOT
UID:e.155.2416
SEQUENCE:3
DTSTAMP:20260421T200838Z
URL:https://business.tomballchamber.org/events/details/trailriders-in-town-02-26-2008-2416
END:VEVENT

END:VCALENDAR
