BEGIN:VCALENDAR
VERSION:2.0
PRODID:-//ChamberMaster//Event Calendar 2.0//EN
METHOD:PUBLISH
X-PUBLISHED-TTL:P3D
REFRESH-INTERVAL:P3D
CALSCALE:GREGORIAN
BEGIN:VEVENT
DTSTART;VALUE=DATE:20070825
DTEND;VALUE=DATE:20070826
TRANSP:TRANSPARENT
X-MICROSOFT-CDO-ALLDAYEVENT:TRUE
SUMMARY:TRAC - Royal Arts Ball
DESCRIPTION:1907 Royal Arts ball - Dining and Dancing
X-ALT-DESC;FMTTYPE=text/html:1907 Royal Arts ball - Dining and Dancing
LOCATION:Shirley Acres - 217 Woerner Road\, Houston\, Texas
UID:e.155.1357
SEQUENCE:3
DTSTAMP:20260422T045159Z
URL:https://business.tomballchamber.org/events/details/trac-royal-arts-ball-08-25-2007-1357
END:VEVENT

END:VCALENDAR
