BEGIN:VCALENDAR
VERSION:2.0
PRODID:-//ChamberMaster//Event Calendar 2.0//EN
METHOD:PUBLISH
X-PUBLISHED-TTL:P3D
REFRESH-INTERVAL:P3D
CALSCALE:GREGORIAN
BEGIN:VEVENT
DTSTART;VALUE=DATE:20070512
DTEND;VALUE=DATE:20070513
TRANSP:TRANSPARENT
X-MICROSOFT-CDO-ALLDAYEVENT:TRUE
SUMMARY:TRAC presents the US Air Force Band of the West
DESCRIPTION:The United State Air Force Band of the West will perform a Blue Jazz Ensemble\nAdmission is FREE\, however you MUST obtain a Ticket to enter from TRAC's office
X-ALT-DESC;FMTTYPE=text/html:The United State Air Force Band of the West will perform a Blue Jazz Ensemble<br />Admission is FREE\, however you MUST obtain a Ticket to enter from TRAC's office
LOCATION:Salem Lutheran Church
UID:e.155.1358
SEQUENCE:3
DTSTAMP:20260422T105145Z
URL:https://business.tomballchamber.org/events/details/trac-presents-the-us-air-force-band-of-the-west-05-12-2007-1358
END:VEVENT

END:VCALENDAR
