BEGIN:VCALENDAR
VERSION:2.0
PRODID:-//ChamberMaster//Event Calendar 2.0//EN
METHOD:PUBLISH
X-PUBLISHED-TTL:P3D
REFRESH-INTERVAL:P3D
CALSCALE:GREGORIAN
BEGIN:VEVENT
DTSTART;VALUE=DATE:20070414
DTEND;VALUE=DATE:20070415
TRANSP:TRANSPARENT
X-MICROSOFT-CDO-ALLDAYEVENT:TRUE
SUMMARY:TRAC - Murder Mystery Dinner Theatre
DESCRIPTION:The Town Hall Meeting - " Murder at Town Hall" - Dinner Theatre
X-ALT-DESC;FMTTYPE=text/html:The Town Hall Meeting - &quot\; Murder at Town Hall&quot\; - Dinner Theatre
LOCATION:Northwest Forest Conference Center\, Town Hall Building 12715 Telge Road\, Cypress\, Texas
UID:e.155.1355
SEQUENCE:3
DTSTAMP:20260422T104645Z
URL:https://business.tomballchamber.org/events/details/trac-murder-mystery-dinner-theatre-04-14-2007-1355
END:VEVENT

END:VCALENDAR
