BEGIN:VCALENDAR
VERSION:2.0
PRODID:-//ChamberMaster//Event Calendar 2.0//EN
METHOD:PUBLISH
X-PUBLISHED-TTL:P3D
REFRESH-INTERVAL:P3D
CALSCALE:GREGORIAN
BEGIN:VEVENT
DTSTART:20070421T190000Z
DTEND:20070422T000000Z
X-MICROSOFT-CDO-ALLDAYEVENT:FALSE
SUMMARY:TRAC & Houston Repertoire Ballet presents Ballet
DESCRIPTION:A special Tomball Centennial Presentation of The History of Ballet
X-ALT-DESC;FMTTYPE=text/html:A special Tomball Centennial Presentation of The History of Ballet
LOCATION:Tomball High School Theatre
UID:e.155.1356
SEQUENCE:3
DTSTAMP:20260422T104806Z
URL:https://business.tomballchamber.org/events/details/trac-houston-repertoire-ballet-presents-ballet-04-21-2007-1356
END:VEVENT

END:VCALENDAR
