BEGIN:VCALENDAR
VERSION:2.0
PRODID:-//ChamberMaster//Event Calendar 2.0//EN
METHOD:PUBLISH
X-PUBLISHED-TTL:P3D
REFRESH-INTERVAL:P3D
CALSCALE:GREGORIAN
BEGIN:VEVENT
DTSTART:20071013T233000Z
DTEND:20071014T033000Z
X-MICROSOFT-CDO-ALLDAYEVENT:FALSE
SUMMARY:Tomball Two Step Gala
DESCRIPTION:Benefiting: Cypress Creek YMCACypress Creek YMCA offers a number of family programs. Support  for the Partners Campaign ensures that everyone regardless of their circumstances or ability to pay can benefit from the YMCA's values-centered programs.   Community PartnersCommunity Partners has provided a broad array of services to more than 200\,000 inner-city\, low-income youth over the past 35 years and is committed to giving the children under its care every advantage to succeed.
X-ALT-DESC;FMTTYPE=text/html:<div><u><font size="4"><span style="font-size: 14pt">Benefiting</span></font></u><font size="4"><span style="font-size: 14pt">:</span></font></div><div><font size="4">&nbsp\;</font></div><div align="center"><u><font size="4"><span style="font-size: 14pt">Cypress</span></font></u><u><font size="4"><span style="font-size: 14pt"> Creek YMCA</span></font></u></div><div style="margin-right: -27pt"><font size="4"><span style="font-size: 14pt">Cypress Creek YMCA offers a number of family programs. Support&nbsp\; for the Partners Campaign ensures that everyone regardless of their circumstances or ability to pay can benefit from the YMCA&rsquo\;s values-centered programs.&nbsp\; </span></font></div><div style="margin-right: -27pt"><font size="4">&nbsp\;</font></div><div style="margin-right: -27pt" align="center"><u><font size="4"><span style="font-size: 14pt">Community Partners</span></font></u></div><div><font size="4"><span style="font-size: 14pt">Community Partners has provided a broad array of services to more than 200\,000 inner-city\, low-income youth over the past 35 years and is committed to giving the children under its care every advantage to succeed.</span></font></div>
LOCATION:Hosted by Parkway Chevrolet at 25500 Tomball Parkway
UID:e.155.2329
SEQUENCE:3
DTSTAMP:20260422T011151Z
URL:https://business.tomballchamber.org/events/details/tomball-two-step-gala-10-13-2007-2329
END:VEVENT

END:VCALENDAR
