BEGIN:VCALENDAR
VERSION:2.0
PRODID:-//ChamberMaster//Event Calendar 2.0//EN
METHOD:PUBLISH
X-PUBLISHED-TTL:P3D
REFRESH-INTERVAL:P3D
CALSCALE:GREGORIAN
BEGIN:VEVENT
DTSTART:20190518T140000Z
DTEND:20190518T190000Z
X-MICROSOFT-CDO-ALLDAYEVENT:FALSE
SUMMARY:Tomball Star Academy Car Wash Fundraiser
DESCRIPTION:Come out to support Tomball Star Academy (Early College High School) at their car wash fundraiser. We are raising funds for a school library\, student field day\, teacher classroom wish list items and more. Pulled pork sandwiches and baked good will be available for purchase.
X-ALT-DESC;FMTTYPE=text/html:Come out to support Tomball Star Academy (Early College High School) at their car wash fundraiser. We are raising funds for a school library\, student field day\, teacher classroom wish list items and more. Pulled pork sandwiches and baked good will be available for purchase.
LOCATION:Community Bank of Texas (SW corner of Hwy 249 and 2920) 28515 State Highway 249 Tomball\, TX 77375
UID:e.155.31129
SEQUENCE:3
DTSTAMP:20260426T031235Z
URL:https://business.tomballchamber.org/events/details/tomball-star-academy-car-wash-fundraiser-31129
END:VEVENT

END:VCALENDAR
