BEGIN:VCALENDAR
VERSION:2.0
PRODID:-//ChamberMaster//Event Calendar 2.0//EN
METHOD:PUBLISH
X-PUBLISHED-TTL:P3D
REFRESH-INTERVAL:P3D
CALSCALE:GREGORIAN
BEGIN:VEVENT
DTSTART:20241205T170000Z
DTEND:20241205T200000Z
X-MICROSOFT-CDO-ALLDAYEVENT:FALSE
SUMMARY:TOMBALL SENIOR VILLAGE SENIOR AWARENESS
DESCRIPTION:Each attendee will be provided with a binder to keep their important information such as doctors\, medicine\, living will\, special instructions
X-ALT-DESC;FMTTYPE=text/html:<br />\n<span style="font-family:aptos black\,sans-serif">Each attendee will be provided with a binder to keep their important information such as doctors\, medicine\, living will\, special instructions</span>
LOCATION:
UID:e.155.39224
SEQUENCE:3
DTSTAMP:20260420T155806Z
URL:https://business.tomballchamber.org/events/details/tomball-senior-village-senior-awareness-39224
END:VEVENT

END:VCALENDAR
