BEGIN:VCALENDAR
VERSION:2.0
PRODID:-//ChamberMaster//Event Calendar 2.0//EN
METHOD:PUBLISH
X-PUBLISHED-TTL:P3D
REFRESH-INTERVAL:P3D
CALSCALE:GREGORIAN
BEGIN:VEVENT
DTSTART:20070420T230000Z
DTEND:20070421T020000Z
X-MICROSOFT-CDO-ALLDAYEVENT:FALSE
SUMMARY:Tomball Rotary Fish Fry
DESCRIPTION:38th Annual Rotary Fish Fry and Gold Ticket Raffle\nGrand Prize - New Chevrolet HHR Car ( Parkway Chevrolet)\n$100 per ticket - See Rotary Members for ticket purchase\nand for Fish Fry tickets.
X-ALT-DESC;FMTTYPE=text/html:38th Annual Rotary Fish Fry and Gold Ticket Raffle<br />Grand Prize - New Chevrolet HHR Car ( Parkway Chevrolet)<br />$100 per ticket - See Rotary Members for ticket purchase<br />and for Fish Fry tickets.
LOCATION:Juergen's Park Pavilion Ulrich Rd - Tomball
UID:e.155.1659
SEQUENCE:3
DTSTAMP:20260422T104633Z
URL:https://business.tomballchamber.org/events/details/tomball-rotary-fish-fry-04-20-2007-1659
END:VEVENT

END:VCALENDAR
