BEGIN:VCALENDAR
VERSION:2.0
PRODID:-//ChamberMaster//Event Calendar 2.0//EN
METHOD:PUBLISH
X-PUBLISHED-TTL:P3D
REFRESH-INTERVAL:P3D
CALSCALE:GREGORIAN
BEGIN:VEVENT
DTSTART:20080418T220000Z
DTEND:20080419T010000Z
X-MICROSOFT-CDO-ALLDAYEVENT:FALSE
SUMMARY:Tomball Rotary Club Gold Ticket Fish Fry
DESCRIPTION:Tomball Rotary Club Annual Fundraiser - Gold Ticket Fish Fry\nTickets available:  Klein Super Market\, all Rotary members
X-ALT-DESC;FMTTYPE=text/html:Tomball Rotary Club Annual Fundraiser - Gold Ticket Fish Fry\nTickets available:  Klein Super Market\, all Rotary members
LOCATION:Juergens Park on Ulrich in Tomball
UID:e.155.2425
SEQUENCE:3
DTSTAMP:20260421T164541Z
URL:https://business.tomballchamber.org/events/details/tomball-rotary-club-gold-ticket-fish-fry-04-18-2008-2425
END:VEVENT

END:VCALENDAR
