BEGIN:VCALENDAR
VERSION:2.0
PRODID:-//ChamberMaster//Event Calendar 2.0//EN
METHOD:PUBLISH
X-PUBLISHED-TTL:P3D
REFRESH-INTERVAL:P3D
CALSCALE:GREGORIAN
BEGIN:VEVENT
DTSTART;VALUE=DATE:20070310
DTEND;VALUE=DATE:20070311
TRANSP:TRANSPARENT
X-MICROSOFT-CDO-ALLDAYEVENT:TRUE
SUMMARY:Tomball Rose Festival - Arbor Gate
DESCRIPTION:Arbor Gate - Rose Festival
X-ALT-DESC;FMTTYPE=text/html:Arbor Gate - Rose Festival
LOCATION:15635 FM 2920 Tomball\, Texas 77377 281.351.8851
UID:e.155.1384
SEQUENCE:3
DTSTAMP:20260422T122610Z
URL:https://business.tomballchamber.org/events/details/tomball-rose-festival-arbor-gate-03-10-2007-1384
END:VEVENT

END:VCALENDAR
