BEGIN:VCALENDAR
VERSION:2.0
PRODID:-//ChamberMaster//Event Calendar 2.0//EN
METHOD:PUBLISH
X-PUBLISHED-TTL:P3D
REFRESH-INTERVAL:P3D
CALSCALE:GREGORIAN
BEGIN:VEVENT
DTSTART:20230228T160000Z
DTEND:20230228T220000Z
X-MICROSOFT-CDO-ALLDAYEVENT:FALSE
SUMMARY:Tomball Retirement Center Blood Drive
DESCRIPTION:The Tomball community is invited to our upcoming blood drive. The Gulf Coast Blood Bank will be giving pullovers to all donors. Lunch will also be provided by our sponsors. Make sure you sign up using the QR code provided.
X-ALT-DESC;FMTTYPE=text/html:The Tomball community is invited to our upcoming blood drive. The Gulf Coast Blood Bank will be giving pullovers to all donors. Lunch will also be provided by our sponsors. Make sure you sign up using the QR code provided.
LOCATION:13415 Medical Complex Chapel Room Tomball\, TX 77375
UID:e.155.37851
SEQUENCE:3
DTSTAMP:20260420T132126Z
URL:https://business.tomballchamber.org/events/details/tomball-retirement-center-blood-drive-37851
END:VEVENT

END:VCALENDAR
