BEGIN:VCALENDAR
VERSION:2.0
PRODID:-//ChamberMaster//Event Calendar 2.0//EN
METHOD:PUBLISH
X-PUBLISHED-TTL:P3D
REFRESH-INTERVAL:P3D
CALSCALE:GREGORIAN
BEGIN:VEVENT
DTSTART:20080125T010000Z
DTEND:20080125T033000Z
X-MICROSOFT-CDO-ALLDAYEVENT:FALSE
SUMMARY:Tomball Promenaders Square Dance Club
DESCRIPTION:Try square dancing -- Fun Nights
X-ALT-DESC;FMTTYPE=text/html:Try square dancing -- Fun Nights
LOCATION:Tomball Community Center Corner of Market and Cherry Streets
UID:e.155.2363
SEQUENCE:3
DTSTAMP:20260421T201619Z
URL:https://business.tomballchamber.org/events/details/tomball-promenaders-square-dance-club-01-24-2008-2363
END:VEVENT

END:VCALENDAR
