BEGIN:VCALENDAR
VERSION:2.0
PRODID:-//ChamberMaster//Event Calendar 2.0//EN
METHOD:PUBLISH
X-PUBLISHED-TTL:P3D
REFRESH-INTERVAL:P3D
CALSCALE:GREGORIAN
BEGIN:VEVENT
DTSTART:20080808T000000Z
DTEND:20080808T010000Z
X-MICROSOFT-CDO-ALLDAYEVENT:FALSE
SUMMARY:Tomball Pachyderm Meeting With Termite Watkins
DESCRIPTION:The Tomball Pachyderm Club is excited to host Houston's own Maurice "Termite" Watkins as our speaker at our monthly meeting on Thursday\, August 7\, 2008 at 7 PM.  The Tomball Pachyderm Club will be meeting at Goodson's Cafe\, 27931 Tomball Parkway.  You are invited to attend and hear a uplifting and inspiring story about how he took on the challenge of building an Iraq Olympic boxing team during the war and  to get  them to Athens for the Olympics.  For additional information\, contact Paul Hirsch at 281-357-0594.
X-ALT-DESC;FMTTYPE=text/html:<div><span style="font-size: 12pt">&nbsp\;<strong><strong><font face="Times New Roman">The Tomball Pachyderm Club is excited to host <st1:city w:st="on"><st1:place w:st="on">Houston</st1:place></st1:city>'s own Maurice &quot\;Termite&quot\;&nbsp\;Watkins as our speaker at our&nbsp\;monthly meeting on Thursday\, August 7\, 2008 at 7 PM.&nbsp\; The Tomball Pachyderm Club will be meeting at Goodson's Cafe\, <st1:street w:st="on"><st1:address w:st="on">27931 Tomball Parkway</st1:address></st1:street>.&nbsp\; You are invited to attend and hear a&nbsp\;uplifting and inspiring story about how he took on the challenge of building an <st1:country-region w:st="on">Iraq</st1:country-region>&nbsp\;Olympic boxing team&nbsp\;during the war and&nbsp\; to get&nbsp\; them to <st1:city w:st="on"><st1:place w:st="on">Athens</st1:place></st1:city> for the Olympics.&nbsp\; For additional information\, contact <st1:personname w:st="on">Paul Hirsch</st1:personname> at 281-357-0594.</font></strong></strong><o:p></o:p></span></div>
LOCATION:Goodson's Cafe\, 27931 Tomball Parkway
UID:e.155.2572
SEQUENCE:3
DTSTAMP:20260421T102324Z
URL:https://business.tomballchamber.org/events/details/tomball-pachyderm-meeting-with-termite-watkins-08-07-2008-2572
END:VEVENT

END:VCALENDAR
