BEGIN:VCALENDAR
VERSION:2.0
PRODID:-//ChamberMaster//Event Calendar 2.0//EN
METHOD:PUBLISH
X-PUBLISHED-TTL:P3D
REFRESH-INTERVAL:P3D
CALSCALE:GREGORIAN
BEGIN:VEVENT
DTSTART:20080514T170000Z
DTEND:20080514T180000Z
X-MICROSOFT-CDO-ALLDAYEVENT:FALSE
SUMMARY:Tomball Nursing Center - Celebration
DESCRIPTION:Tomball Nursing Center is celebrating National Nursing Home WeekThey will be hosting a community BBQ to showcase their residents.Come and meet some great people!
X-ALT-DESC;FMTTYPE=text/html:<div>Tomball Nursing Center is celebrating National Nursing Home Week</div><div>They will be hosting a community BBQ to showcase their residents.</div><div>Come and meet some great people!</div>
LOCATION:Tomball Nursing Center815 N. Peach StreetTomball\, Texas 77375281.351.5443
UID:e.155.2512
SEQUENCE:3
DTSTAMP:20260421T145653Z
URL:https://business.tomballchamber.org/events/details/tomball-nursing-center-celebration-05-14-2008-2512
END:VEVENT

END:VCALENDAR
