BEGIN:VCALENDAR
VERSION:2.0
PRODID:-//ChamberMaster//Event Calendar 2.0//EN
METHOD:PUBLISH
X-PUBLISHED-TTL:P3D
REFRESH-INTERVAL:P3D
CALSCALE:GREGORIAN
BEGIN:VEVENT
DTSTART:20080801T220000Z
DTEND:20080802T040000Z
X-MICROSOFT-CDO-ALLDAYEVENT:FALSE
SUMMARY:TOMBALL NIGHT AND BEYOND
DESCRIPTION:36th Annual Tomball Night and Beyond\n\nCarnival\, petting zoo\, crafts\, mystery shoppers\, food\,\nart\, discounts\, special drawings\, parade of lights and Fireworks
X-ALT-DESC;FMTTYPE=text/html:<p>36th Annual Tomball Night and Beyond<br /><br />Carnival\, petting zoo\, crafts\, mystery shoppers\, food\,<br />art\, discounts\, special drawings\, parade of lights and Fireworks</p>
LOCATION:All Over town !
UID:e.155.2268
SEQUENCE:3
DTSTAMP:20260421T094247Z
URL:https://business.tomballchamber.org/events/details/tomball-night-and-beyond-08-01-2008-2268
END:VEVENT

END:VCALENDAR
