BEGIN:VCALENDAR
VERSION:2.0
PRODID:-//ChamberMaster//Event Calendar 2.0//EN
METHOD:PUBLISH
X-PUBLISHED-TTL:P3D
REFRESH-INTERVAL:P3D
CALSCALE:GREGORIAN
BEGIN:VEVENT
DTSTART:20070422T190000Z
DTEND:20070422T210000Z
X-MICROSOFT-CDO-ALLDAYEVENT:FALSE
SUMMARY:Tomball Museum Center Heritage Tea
DESCRIPTION:Heritage Tea Honoring Joe and Nevaire Richardson
X-ALT-DESC;FMTTYPE=text/html:Heritage Tea Honoring Joe and Nevaire Richardson
LOCATION:510 North Pine Tomball\, Texas
UID:e.155.1366
SEQUENCE:3
DTSTAMP:20260422T104801Z
URL:https://business.tomballchamber.org/events/details/tomball-museum-center-heritage-tea-04-22-2007-1366
END:VEVENT

END:VCALENDAR
