BEGIN:VCALENDAR
VERSION:2.0
PRODID:-//ChamberMaster//Event Calendar 2.0//EN
METHOD:PUBLISH
X-PUBLISHED-TTL:P3D
REFRESH-INTERVAL:P3D
CALSCALE:GREGORIAN
BEGIN:VEVENT
DTSTART:20071208T000000Z
DTEND:20071209T030000Z
X-MICROSOFT-CDO-ALLDAYEVENT:FALSE
SUMMARY:Tomball Museum Center Candlelight Tours
DESCRIPTION:Candlelight Tours at the Tomball Museum\nVisit a little of the past at Christmas with\nWassail\, Cookies and Old Time Cheer
X-ALT-DESC;FMTTYPE=text/html:Candlelight Tours at the Tomball Museum<br />Visit a little of the past at Christmas with<br />Wassail\, Cookies and Old Time Cheer
LOCATION:510 North Pine Tomball\, Texas
UID:e.155.1367
SEQUENCE:3
DTSTAMP:20260421T214616Z
URL:https://business.tomballchamber.org/events/details/tomball-museum-center-candlelight-tours-12-07-2007-1367
END:VEVENT

END:VCALENDAR
