BEGIN:VCALENDAR
VERSION:2.0
PRODID:-//ChamberMaster//Event Calendar 2.0//EN
METHOD:PUBLISH
X-PUBLISHED-TTL:P3D
REFRESH-INTERVAL:P3D
CALSCALE:GREGORIAN
BEGIN:VEVENT
DTSTART;VALUE=DATE:20070303
DTEND;VALUE=DATE:20070304
TRANSP:TRANSPARENT
X-MICROSOFT-CDO-ALLDAYEVENT:TRUE
SUMMARY:Tomball Masonic Lodge #1096 Golf Tournament
DESCRIPTION:Benefiting: TOMAGWA Ministries Medical Clinic and Tomball Masonic Lodge #1096
X-ALT-DESC;FMTTYPE=text/html:Benefiting: TOMAGWA Ministries Medical Clinic and Tomball Masonic Lodge #1096
LOCATION:Houston National Golf Club\, 16500 Houston National Blvd
UID:e.155.956
SEQUENCE:3
DTSTAMP:20260422T122727Z
URL:https://business.tomballchamber.org/events/details/tomball-masonic-lodge-1096-golf-tournament-03-03-2007-956
END:VEVENT

END:VCALENDAR
