BEGIN:VCALENDAR
VERSION:2.0
PRODID:-//ChamberMaster//Event Calendar 2.0//EN
METHOD:PUBLISH
X-PUBLISHED-TTL:P3D
REFRESH-INTERVAL:P3D
CALSCALE:GREGORIAN
BEGIN:VEVENT
DTSTART:20080331T020000Z
DTEND:20080330T210000Z
X-MICROSOFT-CDO-ALLDAYEVENT:FALSE
SUMMARY:Tomball Lions Club Car Show
DESCRIPTION:Tomball Lions Car ShowCars\, Motorcycles\, Swap Meet\,  Arts and Crafts
X-ALT-DESC;FMTTYPE=text/html:<div>Tomball Lions Car Show</div><div>Cars\, Motorcycles\, Swap Meet\, &nbsp\;Arts and Crafts</div>
LOCATION:Formerly Tomball College ( Lone Star College)Hwy 249
UID:e.155.2417
SEQUENCE:3
DTSTAMP:20260421T165418Z
URL:https://business.tomballchamber.org/events/details/tomball-lions-club-car-show-03-30-2008-2417
END:VEVENT

END:VCALENDAR
