BEGIN:VCALENDAR
VERSION:2.0
PRODID:-//ChamberMaster//Event Calendar 2.0//EN
METHOD:PUBLISH
X-PUBLISHED-TTL:P3D
REFRESH-INTERVAL:P3D
CALSCALE:GREGORIAN
BEGIN:VEVENT
DTSTART:20070215T003000Z
DTEND:20070216T040000Z
X-MICROSOFT-CDO-ALLDAYEVENT:FALSE
SUMMARY:Tomball Idol Super Stars- ABWA Tomball Charter Chapter
DESCRIPTION:Preliminary records.  Come by and have your song recorded for the judges. \n$25 entry fee. \nTop 20 to perform on March 10th where top three will be announced. \nUse our CD's of over 10\, 000 song selections or bring your own CDG.\n\nMoney prizes of $500\, $100 and $50 will be awarded March 10\, 2007.
X-ALT-DESC;FMTTYPE=text/html:Preliminary records.  Come by and have your song recorded for the judges. \n$25 entry fee. \nTop 20 to perform on March 10th where top three will be announced. \nUse our CD's of over 10\, 000 song selections or bring your own CDG.\n\nMoney prizes of $500\, $100 and $50 will be awarded March 10\, 2007.
LOCATION:Spurs - FM 1488 -Magnolia
UID:e.155.957
SEQUENCE:3
DTSTAMP:20260422T151803Z
URL:https://business.tomballchamber.org/events/details/tomball-idol-super-stars-abwa-tomball-charter-chapter-02-14-2007-957
END:VEVENT

END:VCALENDAR
