BEGIN:VCALENDAR
VERSION:2.0
PRODID:-//ChamberMaster//Event Calendar 2.0//EN
METHOD:PUBLISH
X-PUBLISHED-TTL:P3D
REFRESH-INTERVAL:P3D
CALSCALE:GREGORIAN
BEGIN:VEVENT
DTSTART:20091121T160000Z
DTEND:20091121T180000Z
X-MICROSOFT-CDO-ALLDAYEVENT:FALSE
SUMMARY:Tomball Holiday Parade
DESCRIPTION:43rd Annual Tomball Holiday Parade
X-ALT-DESC;FMTTYPE=text/html:<div>43rd Annual Tomball Holiday Parade</div>
LOCATION:The Tomball Holiday Parade begins on FM 2920 at the rail road tracks in downtown Tomball and continues down FM 2920 to SH 249.
UID:e.155.2926
SEQUENCE:3
DTSTAMP:20260420T052611Z
URL:https://business.tomballchamber.org/events/details/tomball-holiday-parade-11-21-2009-2926
END:VEVENT

END:VCALENDAR
