BEGIN:VCALENDAR
VERSION:2.0
PRODID:-//ChamberMaster//Event Calendar 2.0//EN
METHOD:PUBLISH
X-PUBLISHED-TTL:P3D
REFRESH-INTERVAL:P3D
CALSCALE:GREGORIAN
BEGIN:VEVENT
DTSTART:20191026T170000Z
DTEND:20191026T210000Z
X-MICROSOFT-CDO-ALLDAYEVENT:FALSE
SUMMARY:Tomball High School SPO Clay Shoot and Bingo fundraiser
DESCRIPTION:Clay shooting and Bingo fundraiser with silent auction\, live auction\, food and fun.
X-ALT-DESC;FMTTYPE=text/html:Clay shooting and Bingo fundraiser with silent auction\, live auction\, food and fun.
LOCATION:Blackwood Gun Club\, Conroe Tx.
UID:e.155.31969
SEQUENCE:3
DTSTAMP:20260425T162021Z
URL:https://business.tomballchamber.org/events/details/tomball-high-school-spo-clay-shoot-and-bingo-fundraiser-31969
END:VEVENT

END:VCALENDAR
