BEGIN:VCALENDAR
VERSION:2.0
PRODID:-//ChamberMaster//Event Calendar 2.0//EN
METHOD:PUBLISH
X-PUBLISHED-TTL:P3D
REFRESH-INTERVAL:P3D
CALSCALE:GREGORIAN
BEGIN:VEVENT
DTSTART:20071022T150000Z
DTEND:20071022T230000Z
X-MICROSOFT-CDO-ALLDAYEVENT:FALSE
SUMMARY:Tomball High School Senior Parent Organization (THS SPO) Golf Tournament
DESCRIPTION:The Tomball High School Senior Parent Organization (THS SPO) is sponsoring a golf tournament to support Project Prom for the 2008 graduating senior class.  The THS SPO is a group of parents and community sponsors who volunteer their time\, talents and treasures to provide the Senior Class of 2008 wholesome\, safe and fun\, alcohol-free activities during their last year of school.  The THS SPO is a charitable\, non-profit organization and is tax-exempt under Section 501(c)(3) of the Internal Revenue Code
X-ALT-DESC;FMTTYPE=text/html:The Tomball High School Senior Parent Organization (THS SPO) is sponsoring a golf tournament to support Project Prom for the 2008 graduating senior class.  The THS SPO is a group of parents and community sponsors who volunteer their time\, talents and treasures to provide the Senior Class of 2008 wholesome\, safe and fun\, alcohol-free activities during their last year of school.  The THS SPO is a charitable\, non-profit organization and is tax-exempt under Section 501(c)(3) of the Internal Revenue Code
LOCATION:Cypress Lakes Golf Club\, 18700 Cypresswood Drive
UID:e.155.2345
SEQUENCE:3
DTSTAMP:20260422T011803Z
URL:https://business.tomballchamber.org/events/details/tomball-high-school-senior-parent-organization-ths-spo-golf-tournament-10-22-2007-2345
END:VEVENT

END:VCALENDAR
