BEGIN:VCALENDAR
VERSION:2.0
PRODID:-//ChamberMaster//Event Calendar 2.0//EN
METHOD:PUBLISH
X-PUBLISHED-TTL:P3D
REFRESH-INTERVAL:P3D
CALSCALE:GREGORIAN
BEGIN:VEVENT
DTSTART;VALUE=DATE:20110408
DTEND;VALUE=DATE:20110409
TRANSP:TRANSPARENT
X-MICROSOFT-CDO-ALLDAYEVENT:TRUE
SUMMARY:Tomball High School Cougar Soccer Playoffs
DESCRIPTION:The Road to the Playoffs\n\n	 \n\n	Tomball Boys Rally Past Bowie 4-2\, Advance to Region II - 5A Final 4 Semi-Finals \n\n	Click here to read Tomball Potpourri article\n\n	\n\n	23-0-3 \n\n	 \n\n	Thank You Fans for Supporting Your Cougars\n\n	Follow the Coogs to Round Rock on Friday\, April 8th for the Region II Final 4 Semi-Finals\n\n	Tomball vs North Mesquite 6:00 PM\n\n	Round Rock ISD Sports Complex\n\n	Kelly Reeves Stadium
X-ALT-DESC;FMTTYPE=text/html:<p align="center">\n	<font color="#c41200" size="6"><em><strong>The Road to the Playoffs</strong></em></font></p>\n<p align="center">\n	&nbsp\;</p>\n<p align="center">\n	<font size="5"><strong><em><font color="#310500">Tomball Boys Rally Past Bowie 4-2\, Advance to Region II - 5A Final 4 Semi-Finals</font>&nbsp\;</em></strong></font></p>\n<p align="center">\n	<a href="http://www.yourhoustonnews.com/tomball/sports/article_3d29358c-6004-11e0-a14e-001cc4c03286.html" target="_blank">Click here to read Tomball Potpourri article</a><br />\n	<br />\n	<span style="font-size: 18px"><strong><span style="background-color: #ff0000">23-0-3</span></strong></span><span _fck_bookmark="1" style="display: none">&nbsp\;</span></p>\n<p align="center">\n	&nbsp\;</p>\n<p align="center">\n	<font color="#c60000" size="3"><em><strong>Thank You Fans for Supporting <u>Your</u> Cougars</strong></em></font></p>\n<p align="center">\n	<font size="3"><em><strong>Follow the Coogs to Round Rock on Friday\, April 8th for the Region II Final 4 Semi-Finals</strong></em></font></p>\n<p align="center">\n	<strong><em><font size="3">Tomball vs North Mesquite 6:00 PM</font></em></strong></p>\n<p align="center">\n	<strong><em><font size="3">Round Rock ISD Sports Complex</font></em></strong></p>\n<p align="center">\n	<strong><em><font size="3">Kelly Reeves&nbsp\;Stadium</font></em></strong></p>\n
LOCATION:
UID:e.155.7511
SEQUENCE:3
DTSTAMP:20260421T085756Z
URL:https://business.tomballchamber.org/events/details/tomball-high-school-cougar-soccer-playoffs-04-08-2011-7511
END:VEVENT

END:VCALENDAR
