BEGIN:VCALENDAR
VERSION:2.0
PRODID:-//ChamberMaster//Event Calendar 2.0//EN
METHOD:PUBLISH
X-PUBLISHED-TTL:P3D
REFRESH-INTERVAL:P3D
CALSCALE:GREGORIAN
BEGIN:VEVENT
DTSTART:20191026T140000Z
DTEND:20191026T163000Z
X-MICROSOFT-CDO-ALLDAYEVENT:FALSE
SUMMARY:Tomball High School Cheer and Mascot Clinic
DESCRIPTION:The Tomball High School Cheerleaders are holding their annual Cheer/Mascot Clinic. This event is for ages 3(must be potty trained) - 8th grade. Cost is $35.00(includes shirt\, snack and drink). There is also an option to choose GAME DAY(for an additional cost)\, and be able to cheer at a Tomball High School football game on November 1st.
X-ALT-DESC;FMTTYPE=text/html:The Tomball High School Cheerleaders are holding their annual Cheer/Mascot Clinic. This event is for ages 3(must be potty trained) - 8th grade. Cost is $35.00(includes shirt\, snack and drink). There is also an option to choose GAME DAY(for an additional cost)\, and be able to cheer at a Tomball High School football game on November 1st.
LOCATION:Tomball Junior High School
UID:e.155.31998
SEQUENCE:3
DTSTAMP:20260425T160145Z
URL:https://business.tomballchamber.org/events/details/tomball-high-school-cheer-and-mascot-clinic-31998
END:VEVENT

END:VCALENDAR
