BEGIN:VCALENDAR
VERSION:2.0
PRODID:-//ChamberMaster//Event Calendar 2.0//EN
METHOD:PUBLISH
X-PUBLISHED-TTL:P3D
REFRESH-INTERVAL:P3D
CALSCALE:GREGORIAN
BEGIN:VEVENT
DTSTART;VALUE=DATE:20071201
DTEND;VALUE=DATE:20071202
TRANSP:TRANSPARENT
X-MICROSOFT-CDO-ALLDAYEVENT:TRUE
SUMMARY:Tomball High School Alumni Assoc. All Class Reunion
DESCRIPTION:Tomball High School Alumni Association Presents An All Class Reunion\nAnyone who has ever gone\, graduated\, taught or worked at THS is invited\nto walk down memory lane "Main Street"  as it is re-constructed to look like\nTomball in the 1960's - Volunteers needed !
X-ALT-DESC;FMTTYPE=text/html:Tomball High School Alumni Association Presents An All Class Reunion<br />Anyone who has ever gone\, graduated\, taught or worked at THS is invited<br />to walk down memory lane &quot\;Main Street&quot\;&nbsp\; as it is re-constructed to look like<br />Tomball in the 1960&rsquo\;s - Volunteers needed !
LOCATION:Downtown Tomball
UID:e.155.1360
SEQUENCE:3
DTSTAMP:20260421T214437Z
URL:https://business.tomballchamber.org/events/details/tomball-high-school-alumni-assoc-all-class-reunion-12-01-2007-1360
END:VEVENT

END:VCALENDAR
