BEGIN:VCALENDAR
VERSION:2.0
PRODID:-//ChamberMaster//Event Calendar 2.0//EN
METHOD:PUBLISH
X-PUBLISHED-TTL:P3D
REFRESH-INTERVAL:P3D
CALSCALE:GREGORIAN
BEGIN:VEVENT
DTSTART;VALUE=DATE:20070601
DTEND;VALUE=DATE:20070604
TRANSP:TRANSPARENT
X-MICROSOFT-CDO-ALLDAYEVENT:TRUE
SUMMARY:Tomball Heartbeat Festival
DESCRIPTION:The Tomball Heartbeat Festival\, presented by Lone Star Chevrolet\, and featuring the Randy Rodgers Band\, Roger Creager\, and the Eli Young Band\, promises music for every taste\, and fun for the whole family! \n\nCome to Tomball to celebrate it's 100th birthday with music\, a carnival\, and more!  See the website for complete entertainment lineup\,directions\, and ticket packages.
X-ALT-DESC;FMTTYPE=text/html:The Tomball Heartbeat Festival\, presented by Lone Star Chevrolet\, and featuring the Randy Rodgers Band\, Roger Creager\, and the Eli Young Band\, promises music for every taste\, and fun for the whole family!&nbsp\;<br /><br />Come to Tomball to celebrate it's 100th birthday with music\, a carnival\, and more!&nbsp\; See the website for complete entertainment lineup\,directions\, and ticket packages.
LOCATION:Festival located at 824 Ulrich Road in Tomball Off site parking and shuttle transportation provided at Tomball High School--30330 Quinn Rd.
UID:e.155.2240
SEQUENCE:3
DTSTAMP:20260422T074528Z
URL:https://business.tomballchamber.org/events/details/tomball-heartbeat-festival-06-01-2007-2240
END:VEVENT

END:VCALENDAR
