BEGIN:VCALENDAR
VERSION:2.0
PRODID:-//ChamberMaster//Event Calendar 2.0//EN
METHOD:PUBLISH
X-PUBLISHED-TTL:P3D
REFRESH-INTERVAL:P3D
CALSCALE:GREGORIAN
BEGIN:VEVENT
DTSTART:20190516T230000Z
DTEND:20190517T003000Z
X-MICROSOFT-CDO-ALLDAYEVENT:FALSE
SUMMARY:Tomball Health Academy - Water and Summer Safety for Kids of All Ages
DESCRIPTION:Join HCA Tomball for a FREE educational seminar and dinner to learn about water safety and other summer safety tips for your kids this summer. This seminar can apply to kids of all ages. This is great for parents\, new parents and grandparents.
X-ALT-DESC;FMTTYPE=text/html:Join HCA Tomball for a FREE educational seminar and dinner to learn about water safety and other summer safety tips for your kids this summer. This seminar can apply to kids of all ages. This is great for parents\, new parents and grandparents.
LOCATION:HCA Tomball Lower Level Cafe
UID:e.155.31124
SEQUENCE:3
DTSTAMP:20260426T031551Z
URL:https://business.tomballchamber.org/events/details/tomball-health-academy-water-and-summer-safety-for-kids-of-all-ages-31124
END:VEVENT

END:VCALENDAR
