BEGIN:VCALENDAR
VERSION:2.0
PRODID:-//ChamberMaster//Event Calendar 2.0//EN
METHOD:PUBLISH
X-PUBLISHED-TTL:P3D
REFRESH-INTERVAL:P3D
CALSCALE:GREGORIAN
BEGIN:VEVENT
DTSTART:20070910T180000Z
DTEND:20070911T000000Z
X-MICROSOFT-CDO-ALLDAYEVENT:FALSE
SUMMARY:Tomball ''Guns and Hoses'' Blood Drive
DESCRIPTION:To schedule an appointment\, visit www.giveblood.org and enter sponsor code L385 or call Shawn Cox at 281-290-1001.
X-ALT-DESC;FMTTYPE=text/html:<div>To schedule an appointment\, visit www.giveblood.org and enter sponsor code L385 or call Shawn Cox at 281-290-1001.</div>
LOCATION:Tomball Community Center
UID:e.155.2314
SEQUENCE:3
DTSTAMP:20260422T030158Z
URL:https://business.tomballchamber.org/events/details/tomball-guns-and-hoses-blood-drive-09-10-2007-2314
END:VEVENT

END:VCALENDAR
