BEGIN:VCALENDAR
VERSION:2.0
PRODID:-//ChamberMaster//Event Calendar 2.0//EN
METHOD:PUBLISH
X-PUBLISHED-TTL:P3D
REFRESH-INTERVAL:P3D
CALSCALE:GREGORIAN
BEGIN:VEVENT
DTSTART:20080913T150000Z
DTEND:20080913T200000Z
X-MICROSOFT-CDO-ALLDAYEVENT:FALSE
SUMMARY:Tomball Girls Softball Fall Registration
DESCRIPTION:TGSA Fall 2008 League Dates and Information \n\nOn-Line Registration is Open!!! www.eteamz.com/tgsa \n\n\nOn-Site Registration: T-Ball - 8U - 10U - 12U - 14U - 16/18U \nSaturday\, September 13th and Saturday\, September 20th \n10:00 PM - 3:00 PM - Burroughs Park \n$55.00 per player\, all age divisions (10% sibling discount) \nBring a copy of the player's birth certificate unless previously registered with TGSA \n\nBurroughs Park \n9738 Hufsmith Rd. \nTomball\, TX 77375 TGSA \nP.O. Box 1486 \nTomball\, TX 77377 Tomball Girls Softball Association \n\nOTHER KEY DATES \n\nTryouts \nTuesday\, September 23rd (all age divisions except T-Ball) \n6:30 - 8:30 PM - Burroughs Park \n\n\nPlayer Draft \nThursday\, September 25th \n6:30 - 8:30 PM - Location to be announced \n\nFriday\, September 26th - Practices may begin \n\nOctober 7th - Season begins \n\nOctober 30th - Season ends \n\n\n8 game schedule \nGames on Tuesday and Thursday nights \nNo rainout make-ups during Fall season
X-ALT-DESC;FMTTYPE=text/html:TGSA Fall 2008 League Dates and Information \n\nOn-Line Registration is Open!!! www.eteamz.com/tgsa \n\n\nOn-Site Registration: T-Ball - 8U - 10U - 12U - 14U - 16/18U \nSaturday\, September 13th and Saturday\, September 20th \n10:00 PM - 3:00 PM - Burroughs Park \n$55.00 per player\, all age divisions (10% sibling discount) \nBring a copy of the player's birth certificate unless previously registered with TGSA \n\nBurroughs Park \n9738 Hufsmith Rd. \nTomball\, TX 77375 TGSA \nP.O. Box 1486 \nTomball\, TX 77377 Tomball Girls Softball Association \n\nOTHER KEY DATES \n\nTryouts \nTuesday\, September 23rd (all age divisions except T-Ball) \n6:30 - 8:30 PM - Burroughs Park \n\n\nPlayer Draft \nThursday\, September 25th \n6:30 - 8:30 PM - Location to be announced \n\nFriday\, September 26th - Practices may begin \n\nOctober 7th - Season begins \n\nOctober 30th - Season ends \n\n\n8 game schedule \nGames on Tuesday and Thursday nights \nNo rainout make-ups during Fall season \n
LOCATION:Burroughs Park 9738 Hufsmith Rd. Tomball\, TX 77375 TGSA
UID:e.155.2604
SEQUENCE:3
DTSTAMP:20260421T085751Z
URL:https://business.tomballchamber.org/events/details/tomball-girls-softball-fall-registration-09-13-2008-2604
END:VEVENT

END:VCALENDAR
